BEGIN:VCALENDAR
VERSION:2.0
PRODID:-//Greenspace KY - ECPv6.15.20//NONSGML v1.0//EN
CALSCALE:GREGORIAN
METHOD:PUBLISH
X-WR-CALNAME:Greenspace KY
X-ORIGINAL-URL:https://greenspaceky.com
X-WR-CALDESC:Events for Greenspace KY
REFRESH-INTERVAL;VALUE=DURATION:PT1H
X-Robots-Tag:noindex
X-PUBLISHED-TTL:PT1H
BEGIN:VTIMEZONE
TZID:America/Kentucky/Louisville
BEGIN:DAYLIGHT
TZOFFSETFROM:-0500
TZOFFSETTO:-0400
TZNAME:EDT
DTSTART:20230312T070000
END:DAYLIGHT
BEGIN:STANDARD
TZOFFSETFROM:-0400
TZOFFSETTO:-0500
TZNAME:EST
DTSTART:20231105T060000
END:STANDARD
BEGIN:DAYLIGHT
TZOFFSETFROM:-0500
TZOFFSETTO:-0400
TZNAME:EDT
DTSTART:20240310T070000
END:DAYLIGHT
BEGIN:STANDARD
TZOFFSETFROM:-0400
TZOFFSETTO:-0500
TZNAME:EST
DTSTART:20241103T060000
END:STANDARD
BEGIN:DAYLIGHT
TZOFFSETFROM:-0500
TZOFFSETTO:-0400
TZNAME:EDT
DTSTART:20250309T070000
END:DAYLIGHT
BEGIN:STANDARD
TZOFFSETFROM:-0400
TZOFFSETTO:-0500
TZNAME:EST
DTSTART:20251102T060000
END:STANDARD
BEGIN:DAYLIGHT
TZOFFSETFROM:-0500
TZOFFSETTO:-0400
TZNAME:EDT
DTSTART:20260308T070000
END:DAYLIGHT
BEGIN:STANDARD
TZOFFSETFROM:-0400
TZOFFSETTO:-0500
TZNAME:EST
DTSTART:20261101T060000
END:STANDARD
END:VTIMEZONE
BEGIN:VEVENT
DTSTART;TZID=America/Kentucky/Louisville:20241123T190000
DTEND;TZID=America/Kentucky/Louisville:20241123T220000
DTSTAMP:20260421T072500
CREATED:20241026T151045Z
LAST-MODIFIED:20241026T151605Z
UID:1463-1732388400-1732399200@greenspaceky.com
SUMMARY:2024 Trivia Night
DESCRIPTION:
URL:https://greenspaceky.com/event/2024-trivia-night/
LOCATION:Pritchard Community Center\, 404 S Mulberry Street\, Hodgenville\, KY\, 42748\, United States
ATTACH;FMTTYPE=image/png:https://greenspaceky.com/wp-content/uploads/2024/10/50th-banner.png
END:VEVENT
BEGIN:VEVENT
DTSTART;TZID=America/Kentucky/Louisville:20250610T180000
DTEND;TZID=America/Kentucky/Louisville:20250610T203000
DTSTAMP:20260421T072500
CREATED:20250513T164648Z
LAST-MODIFIED:20250607T212126Z
UID:1501-1749578400-1749587400@greenspaceky.com
SUMMARY:2025 Summer Concert Series
DESCRIPTION:
URL:https://greenspaceky.com/event/87100-2025-emerald-cathedral-summer-concert-series/2025-06-10/
LOCATION:Emerald Cathedral Amphitheater\, 1011 Driftwood Ln\, 42701
END:VEVENT
BEGIN:VEVENT
DTSTART;TZID=America/Kentucky/Louisville:20250808T180000
DTEND;TZID=America/Kentucky/Louisville:20250808T203000
DTSTAMP:20260421T072500
CREATED:20250513T164648Z
LAST-MODIFIED:20250607T212127Z
UID:1502-1754676000-1754685000@greenspaceky.com
SUMMARY:2025 Summer Concert Series
DESCRIPTION:
URL:https://greenspaceky.com/event/87100-2025-emerald-cathedral-summer-concert-series/2025-08-08/
LOCATION:Emerald Cathedral Amphitheater\, 1011 Driftwood Ln\, 42701
END:VEVENT
BEGIN:VEVENT
DTSTART;TZID=America/Kentucky/Louisville:20250919T180000
DTEND;TZID=America/Kentucky/Louisville:20250919T203000
DTSTAMP:20260421T072500
CREATED:20250513T164648Z
LAST-MODIFIED:20250607T212127Z
UID:1503-1758304800-1758313800@greenspaceky.com
SUMMARY:2025 Summer Concert Series
DESCRIPTION:
URL:https://greenspaceky.com/event/87100-2025-emerald-cathedral-summer-concert-series/2025-09-19/
LOCATION:Emerald Cathedral Amphitheater\, 1011 Driftwood Ln\, 42701
END:VEVENT
END:VCALENDAR